BEGIN:VCALENDAR
VERSION:2.0
PRODID:-//Department Of Education//dc73d7ed-96ce-46cf-9646-68f24f1fcc1a
BEGIN:VTIMEZONE
TZID:Australia/Sydney
TZURL:http://tzurl.org/zoneinfo-outlook/Australia/Sydney
X-LIC-LOCATION:Australia/Sydney
BEGIN:STANDARD
TZOFFSETFROM:+1100
TZOFFSETTO:+1000
TZNAME:AEST
DTSTART:19700405T030000
RRULE:FREQ=YEARLY;BYMONTH=4;BYDAY=1SU
END:STANDARD
BEGIN:DAYLIGHT
TZOFFSETFROM:+1000
TZOFFSETTO:+1100
TZNAME:AEDT
DTSTART:19701004T020000
RRULE:FREQ=YEARLY;BYMONTH=10;BYDAY=1SU
END:DAYLIGHT
END:VTIMEZONE
CALSCALE:GREGORIAN
X-WR-TIMEZONE:Australia/Sydney
BEGIN:VEVENT
DTSTART;VALUE=DATE:20200303
DTEND;VALUE=DATE:20200304
DTSTAMP:20200303T000000Z
UID:a4e34af8-cba9-46b7-a9fa-60338c9a6001
LOCATION:Roy Howard Oval - Bega
SUMMARY;LANGUAGE=en-us:Years 5-6 Paul Kelly Cup
SEQUENCE:0
DESCRIPTION:Years 5 & 6 AFL Day.
END:VEVENT
TRANSP:TRANSPARENT
END:VCALENDAR
