BEGIN:VCALENDAR
VERSION:2.0
PRODID:-//Department Of Education//2b38d876-dbe8-4ed8-9ce5-e4ccb4b4e300
BEGIN:VTIMEZONE
TZID:Australia/Sydney
TZURL:http://tzurl.org/zoneinfo-outlook/Australia/Sydney
X-LIC-LOCATION:Australia/Sydney
BEGIN:STANDARD
TZOFFSETFROM:+1100
TZOFFSETTO:+1000
TZNAME:AEST
DTSTART:19700405T030000
RRULE:FREQ=YEARLY;BYMONTH=4;BYDAY=1SU
END:STANDARD
BEGIN:DAYLIGHT
TZOFFSETFROM:+1000
TZOFFSETTO:+1100
TZNAME:AEDT
DTSTART:19701004T020000
RRULE:FREQ=YEARLY;BYMONTH=10;BYDAY=1SU
END:DAYLIGHT
END:VTIMEZONE
CALSCALE:GREGORIAN
X-WR-TIMEZONE:Australia/Sydney
BEGIN:VEVENT
DTSTART;TZID=Australia/Sydney:20200305T101508
DTEND;TZID=Australia/Sydney:20200305T121518
DTSTAMP:20200305T000000Z
UID:415d3ba2-411d-4b56-8fb5-7ac8995b25b5
LOCATION:Tanja PS
SUMMARY;LANGUAGE=en-us:Music with Deb Weeden
RRULE:FREQ=WEEKLY;INTERVAL=1;UNTIL=20200312;
SEQUENCE:0
DESCRIPTION:10:15 - K/1 10:30 - 2/3 10:50 - 4/5/6 11:45 - Whole school choir
END:VEVENT
TRANSP:TRANSPARENT
END:VCALENDAR
