BEGIN:VCALENDAR
VERSION:2.0
PRODID:-//Department Of Education//07de5690-aaf1-4486-865f-6046d6370fdf
BEGIN:VTIMEZONE
TZID:Australia/Sydney
TZURL:http://tzurl.org/zoneinfo-outlook/Australia/Sydney
X-LIC-LOCATION:Australia/Sydney
BEGIN:STANDARD
TZOFFSETFROM:+1100
TZOFFSETTO:+1000
TZNAME:AEST
DTSTART:19700405T030000
RRULE:FREQ=YEARLY;BYMONTH=4;BYDAY=1SU
END:STANDARD
BEGIN:DAYLIGHT
TZOFFSETFROM:+1000
TZOFFSETTO:+1100
TZNAME:AEDT
DTSTART:19701004T020000
RRULE:FREQ=YEARLY;BYMONTH=10;BYDAY=1SU
END:DAYLIGHT
END:VTIMEZONE
CALSCALE:GREGORIAN
X-WR-TIMEZONE:Australia/Sydney
BEGIN:VEVENT
DTSTART;TZID=Australia/Sydney:20200304T140006
DTEND;TZID=Australia/Sydney:20200304T150013
DTSTAMP:20200304T000000Z
UID:3202249a-d9ed-445e-a9c5-84bc43ba2f2c
LOCATION:Tanja PS
SUMMARY;LANGUAGE=en-us:Cooking with Liz
RRULE:FREQ=WEEKLY;INTERVAL=1;UNTIL=20200311;
SEQUENCE:0
DESCRIPTION:Years 3-4 cooking with Liz.
END:VEVENT
TRANSP:TRANSPARENT
END:VCALENDAR
