BEGIN:VCALENDAR
VERSION:2.0
PRODID:-//Department Of Education//6ccea207-d4e6-403e-bab5-92d19a8903fd
BEGIN:VTIMEZONE
TZID:Australia/Sydney
TZURL:http://tzurl.org/zoneinfo-outlook/Australia/Sydney
X-LIC-LOCATION:Australia/Sydney
BEGIN:STANDARD
TZOFFSETFROM:+1100
TZOFFSETTO:+1000
TZNAME:AEST
DTSTART:19700405T030000
RRULE:FREQ=YEARLY;BYMONTH=4;BYDAY=1SU
END:STANDARD
BEGIN:DAYLIGHT
TZOFFSETFROM:+1000
TZOFFSETTO:+1100
TZNAME:AEDT
DTSTART:19701004T020000
RRULE:FREQ=YEARLY;BYMONTH=10;BYDAY=1SU
END:DAYLIGHT
END:VTIMEZONE
CALSCALE:GREGORIAN
X-WR-TIMEZONE:Australia/Sydney
BEGIN:VEVENT
DTSTART;TZID=Australia/Sydney:20200305T090008
DTEND;TZID=Australia/Sydney:20200305T100018
DTSTAMP:20200305T000000Z
UID:df9ad5f2-3b5a-4fdf-a51c-e85a8d898f10
LOCATION:Tanja PS
SUMMARY;LANGUAGE=en-us:Art and Science with Martin & Deborah
RRULE:FREQ=WEEKLY;INTERVAL=1;UNTIL=20200326;
SEQUENCE:0
DESCRIPTION:Weeks 3 to 6 K-2 - Science with Martin 3-6 - Art with Deborah Weeks 7 to 9 K-2 - Art with Deborah 3-6 - Science with Martin
END:VEVENT
TRANSP:TRANSPARENT
END:VCALENDAR
