BEGIN:VCALENDAR
VERSION:2.0
PRODID:-//Department Of Education//ae3661ce-5287-4229-aade-0437f4466089
BEGIN:VTIMEZONE
TZID:Australia/Sydney
TZURL:http://tzurl.org/zoneinfo-outlook/Australia/Sydney
X-LIC-LOCATION:Australia/Sydney
BEGIN:STANDARD
TZOFFSETFROM:+1100
TZOFFSETTO:+1000
TZNAME:AEST
DTSTART:19700405T030000
RRULE:FREQ=YEARLY;BYMONTH=4;BYDAY=1SU
END:STANDARD
BEGIN:DAYLIGHT
TZOFFSETFROM:+1000
TZOFFSETTO:+1100
TZNAME:AEDT
DTSTART:19701004T020000
RRULE:FREQ=YEARLY;BYMONTH=10;BYDAY=1SU
END:DAYLIGHT
END:VTIMEZONE
CALSCALE:GREGORIAN
X-WR-TIMEZONE:Australia/Sydney
BEGIN:VEVENT
DTSTART;TZID=Australia/Sydney:20200302T140056
DTEND;TZID=Australia/Sydney:20200302T150002
DTSTAMP:20200302T000000Z
UID:1562d24a-4b60-474c-bf0c-7b8ebfd25235
LOCATION:Tanja PS
SUMMARY;LANGUAGE=en-us:AFL Skills with Mitch
SEQUENCE:0
DESCRIPTION:AFL lessons with Mitch.
END:VEVENT
TRANSP:TRANSPARENT
END:VCALENDAR
