BEGIN:VCALENDAR
VERSION:2.0
PRODID:-//Department Of Education//05c81a48-2636-42eb-857e-7c1a28247644
BEGIN:VTIMEZONE
TZID:Australia/Sydney
TZURL:http://tzurl.org/zoneinfo-outlook/Australia/Sydney
X-LIC-LOCATION:Australia/Sydney
BEGIN:STANDARD
TZOFFSETFROM:+1100
TZOFFSETTO:+1000
TZNAME:AEST
DTSTART:19700405T030000
RRULE:FREQ=YEARLY;BYMONTH=4;BYDAY=1SU
END:STANDARD
BEGIN:DAYLIGHT
TZOFFSETFROM:+1000
TZOFFSETTO:+1100
TZNAME:AEDT
DTSTART:19701004T020000
RRULE:FREQ=YEARLY;BYMONTH=10;BYDAY=1SU
END:DAYLIGHT
END:VTIMEZONE
CALSCALE:GREGORIAN
X-WR-TIMEZONE:Australia/Sydney
BEGIN:VEVENT
DTSTART;TZID=Australia/Sydney:20200306T091540
DTEND;TZID=Australia/Sydney:20200306T104549
DTSTAMP:20200306T000000Z
UID:acc9b6e6-8392-4d51-8f70-1ef43d2e8450
LOCATION:Tanja PS
SUMMARY;LANGUAGE=en-us:Spanish with Maria
RRULE:FREQ=WEEKLY;INTERVAL=1;UNTIL=20200403;
SEQUENCE:0
DESCRIPTION:9:15 am - K/1 9:35 am - 2/3 10:10 am - 4/5/6
END:VEVENT
TRANSP:TRANSPARENT
END:VCALENDAR
